BEGIN:VCALENDAR
VERSION:2.0
PRODID:spatie/icalendar-generator
NAME:RENÉ P. BUHOLZER – Schweizer Pharmastandort: Zwischen Geopolitik un
 d Patientenversorgung [Trendtage Gesundheit]
X-WR-CALNAME:RENÉ P. BUHOLZER – Schweizer Pharmastandort: Zwischen Geopo
 litik und Patientenversorgung [Trendtage Gesundheit]
BEGIN:VTIMEZONE
TZID:Europe/Zurich
BEGIN:STANDARD
DTSTART:20251026T030000
TZOFFSETFROM:+0200
TZOFFSETTO:+0100
END:STANDARD
BEGIN:DAYLIGHT
DTSTART:20260329T020000
TZOFFSETFROM:+0100
TZOFFSETTO:+0200
END:DAYLIGHT
END:VTIMEZONE
BEGIN:VTIMEZONE
TZID:UTC
BEGIN:STANDARD
DTSTART:20250729T225440
TZOFFSETFROM:+0000
TZOFFSETTO:+0000
END:STANDARD
END:VTIMEZONE
BEGIN:VEVENT
UID:69ed46307f78f
DTSTAMP:20260425T225440Z
DTSTART;TZID=Europe/Zurich:20260325T155000
DTEND;TZID=Europe/Zurich:20260325T160500
SUMMARY:RENÉ P. BUHOLZER – Schweizer Pharmastandort: Zwischen Geopolitik
  und Patientenversorgung [Trendtage Gesundheit]
DESCRIPTION:https://www.trendtage-gesundheit.ch/de/e/rene-p-buholzer-schwei
 zer-pharmastandort-zwischen-geopolitik-und-patientenversorgung.42369\n\n
LOCATION:KKL Luzern
END:VEVENT
END:VCALENDAR